BEGIN:VCALENDAR
VERSION:2.0
PRODID:-//Superstitions Entertainment Empire - ECPv6.15.20//NONSGML v1.0//EN
CALSCALE:GREGORIAN
METHOD:PUBLISH
X-ORIGINAL-URL:https://superstitionsentertainment.ca
X-WR-CALDESC:Events for Superstitions Entertainment Empire
REFRESH-INTERVAL;VALUE=DURATION:PT1H
X-Robots-Tag:noindex
X-PUBLISHED-TTL:PT1H
BEGIN:VTIMEZONE
TZID:America/Edmonton
BEGIN:DAYLIGHT
TZOFFSETFROM:-0700
TZOFFSETTO:-0600
TZNAME:MDT
DTSTART:20250309T090000
END:DAYLIGHT
BEGIN:STANDARD
TZOFFSETFROM:-0600
TZOFFSETTO:-0700
TZNAME:MST
DTSTART:20251102T080000
END:STANDARD
BEGIN:DAYLIGHT
TZOFFSETFROM:-0700
TZOFFSETTO:-0600
TZNAME:MDT
DTSTART:20260308T090000
END:DAYLIGHT
BEGIN:STANDARD
TZOFFSETFROM:-0600
TZOFFSETTO:-0700
TZNAME:MST
DTSTART:20261101T080000
END:STANDARD
BEGIN:DAYLIGHT
TZOFFSETFROM:-0700
TZOFFSETTO:-0600
TZNAME:MDT
DTSTART:20270314T090000
END:DAYLIGHT
BEGIN:STANDARD
TZOFFSETFROM:-0600
TZOFFSETTO:-0700
TZNAME:MST
DTSTART:20271107T080000
END:STANDARD
END:VTIMEZONE
BEGIN:VEVENT
DTSTART;TZID=America/Edmonton:20260418T210000
DTEND;TZID=America/Edmonton:20260418T223000
DTSTAMP:20260421T035200
CREATED:20260417T191307Z
LAST-MODIFIED:20260417T191311Z
UID:10000489-1776546000-1776551400@superstitionsentertainment.ca
SUMMARY:Matt Friend - Exclusive Concert Event
DESCRIPTION:Matt Friend – Exclusive Concert Event\n\n\n\nMatt Friend – Exclusive Concert Event\n\n\n\n*** THIS IS A RUSH SEATING PERFORMANCE *** HOLDING SEATS IS NOT PERMITTED FOR THIS EVENT *** WE ARE UNABLE TO SEAT INCOMPLETE PARTIES *** IF YOU WISH TO BE SEATED WITH OTHERS\, ENSURE YOU ALL ARRIVE TOGETHER ***Matt Friend is a 27-year-old comedian\, actor\, host\, and impressionist whose wit\, work ethic\, and wildly accurate impressions have made him one of entertainment’s most exciting breakout voices. ​ Equal parts charm and precision\, he brings an old-school reverence for showbiz with a sharp\, contemporary edge. ​ \n\n\n\nA graduate of NYU’s Gallatin School\, Matt fell in love with comedy at the age of four\, after watching Austin Powers and imitating the characters. ​ That early obsession blossomed into a career spanning millions of fans across the globe\, where he has amassed over 4 million followers through his instantly recognizable impressions and cultural takes. ​ \n\n\n\nHis meteoric rise has taken him from viral sensation to an in-demand presence across television\, live events\, and red carpets. ​ He’s appeared on The Drew Barrymore Show\, The Howard Stern Show\, Good Morning America\, Sherri\, MSNBC\, CNN\, The Today Show\, Jimmy Kimmel Live\, and more. ​ His 250+ voice arsenal includes names like Rami Malek\, Timothee Chalamet\, Paul Giamatti\, Howard Stern\, Austin Butler\, Barack Obama\, Donald Trump\, and more. ​ \n\n\n\nIn 2024\, Matt hosted the NHL Awards\, which brought in record-breaking ratings for the league. ​ Additionally\, he delivered a surprise performance for President Joe Biden at the White House Correspondents Dinner. ​ In 2025\, Matt was named to People’s Sexiest Man Alive list. ​ \n\n\n\nAs a host\, presenter\, and live personality\, Matt has become a must-have across the biggest cultural events like Wimbledon\, the US Open\, Milan Fashion Week\, the Golden Globes\, the Emmys\, the SAG Awards\, the Palm Springs International Film Festival\, F1\, and more. ​ In March 2026\, he will join ABC and Live with Kelly & Mark as their official red carpet host at the Oscars. ​ \n\n\n\nOn stage\, he continues to tour internationally with his stand-up comedy\, selling out shows across the globe\, and earning praise from icons like Jamie Foxx\, Jeff Goldblum\, Howard Stern\, Barack Obama himself\, and more. ​ He’s also lent his voice talents to The Simpsons and Family Guy\, expanding his reach into animation\, and he recently wrapped production on his first feature film role. ​ \n\n\n\nMatt is a student of the craft\, with a deep passion for comedy\, politics\, pop culture\, and performance. ​ And whether he’s on stage\, on camera\, or on your For You page\, one thing is certain: Matt Friend isn’t just one to watch. ​ He’s the one doing the watching\, listening\, and perfectly imitating… with a wink. ​
URL:https://superstitionsentertainment.ca/event/matt-friend-exclusive-concert-event/2026-04-18/2/
LOCATION:The Laugh Shop\, 5940 Blackfoot Trail SE\, Calgary\, Alberta\, T2H 2B5\, Canada
CATEGORIES:Comedy
ATTACH;FMTTYPE=image/jpeg:https://superstitionsentertainment.ca/wp-content/uploads/2026/04/Matt-Friend-Exclusive-Concert-Event.jpg
END:VEVENT
BEGIN:VEVENT
DTSTART;TZID=America/Edmonton:20260418T183000
DTEND;TZID=America/Edmonton:20260418T200000
DTSTAMP:20260421T035200
CREATED:20260417T191307Z
LAST-MODIFIED:20260417T191311Z
UID:10000488-1776537000-1776542400@superstitionsentertainment.ca
SUMMARY:Matt Friend - Exclusive Concert Event
DESCRIPTION:Matt Friend – Exclusive Concert Event\n\n\n\nMatt Friend – Exclusive Concert Event\n\n\n\n*** THIS IS A RUSH SEATING PERFORMANCE *** HOLDING SEATS IS NOT PERMITTED FOR THIS EVENT *** WE ARE UNABLE TO SEAT INCOMPLETE PARTIES *** IF YOU WISH TO BE SEATED WITH OTHERS\, ENSURE YOU ALL ARRIVE TOGETHER ***Matt Friend is a 27-year-old comedian\, actor\, host\, and impressionist whose wit\, work ethic\, and wildly accurate impressions have made him one of entertainment’s most exciting breakout voices. ​ Equal parts charm and precision\, he brings an old-school reverence for showbiz with a sharp\, contemporary edge. ​ \n\n\n\nA graduate of NYU’s Gallatin School\, Matt fell in love with comedy at the age of four\, after watching Austin Powers and imitating the characters. ​ That early obsession blossomed into a career spanning millions of fans across the globe\, where he has amassed over 4 million followers through his instantly recognizable impressions and cultural takes. ​ \n\n\n\nHis meteoric rise has taken him from viral sensation to an in-demand presence across television\, live events\, and red carpets. ​ He’s appeared on The Drew Barrymore Show\, The Howard Stern Show\, Good Morning America\, Sherri\, MSNBC\, CNN\, The Today Show\, Jimmy Kimmel Live\, and more. ​ His 250+ voice arsenal includes names like Rami Malek\, Timothee Chalamet\, Paul Giamatti\, Howard Stern\, Austin Butler\, Barack Obama\, Donald Trump\, and more. ​ \n\n\n\nIn 2024\, Matt hosted the NHL Awards\, which brought in record-breaking ratings for the league. ​ Additionally\, he delivered a surprise performance for President Joe Biden at the White House Correspondents Dinner. ​ In 2025\, Matt was named to People’s Sexiest Man Alive list. ​ \n\n\n\nAs a host\, presenter\, and live personality\, Matt has become a must-have across the biggest cultural events like Wimbledon\, the US Open\, Milan Fashion Week\, the Golden Globes\, the Emmys\, the SAG Awards\, the Palm Springs International Film Festival\, F1\, and more. ​ In March 2026\, he will join ABC and Live with Kelly & Mark as their official red carpet host at the Oscars. ​ \n\n\n\nOn stage\, he continues to tour internationally with his stand-up comedy\, selling out shows across the globe\, and earning praise from icons like Jamie Foxx\, Jeff Goldblum\, Howard Stern\, Barack Obama himself\, and more. ​ He’s also lent his voice talents to The Simpsons and Family Guy\, expanding his reach into animation\, and he recently wrapped production on his first feature film role. ​ \n\n\n\nMatt is a student of the craft\, with a deep passion for comedy\, politics\, pop culture\, and performance. ​ And whether he’s on stage\, on camera\, or on your For You page\, one thing is certain: Matt Friend isn’t just one to watch. ​ He’s the one doing the watching\, listening\, and perfectly imitating… with a wink. ​
URL:https://superstitionsentertainment.ca/event/matt-friend-exclusive-concert-event/2026-04-18/1/
LOCATION:The Laugh Shop\, 5940 Blackfoot Trail SE\, Calgary\, Alberta\, T2H 2B5\, Canada
CATEGORIES:Comedy
ATTACH;FMTTYPE=image/jpeg:https://superstitionsentertainment.ca/wp-content/uploads/2026/04/Matt-Friend-Exclusive-Concert-Event.jpg
END:VEVENT
BEGIN:VEVENT
DTSTART;TZID=America/Edmonton:20260417T190000
DTEND;TZID=America/Edmonton:20260417T203000
DTSTAMP:20260421T035200
CREATED:20260417T191307Z
LAST-MODIFIED:20260417T191311Z
UID:10000487-1776452400-1776457800@superstitionsentertainment.ca
SUMMARY:Matt Friend - Exclusive Concert Event
DESCRIPTION:Matt Friend – Exclusive Concert Event\n\n\n\nMatt Friend – Exclusive Concert Event\n\n\n\n*** THIS IS A RUSH SEATING PERFORMANCE *** HOLDING SEATS IS NOT PERMITTED FOR THIS EVENT *** WE ARE UNABLE TO SEAT INCOMPLETE PARTIES *** IF YOU WISH TO BE SEATED WITH OTHERS\, ENSURE YOU ALL ARRIVE TOGETHER ***Matt Friend is a 27-year-old comedian\, actor\, host\, and impressionist whose wit\, work ethic\, and wildly accurate impressions have made him one of entertainment’s most exciting breakout voices. ​ Equal parts charm and precision\, he brings an old-school reverence for showbiz with a sharp\, contemporary edge. ​ \n\n\n\nA graduate of NYU’s Gallatin School\, Matt fell in love with comedy at the age of four\, after watching Austin Powers and imitating the characters. ​ That early obsession blossomed into a career spanning millions of fans across the globe\, where he has amassed over 4 million followers through his instantly recognizable impressions and cultural takes. ​ \n\n\n\nHis meteoric rise has taken him from viral sensation to an in-demand presence across television\, live events\, and red carpets. ​ He’s appeared on The Drew Barrymore Show\, The Howard Stern Show\, Good Morning America\, Sherri\, MSNBC\, CNN\, The Today Show\, Jimmy Kimmel Live\, and more. ​ His 250+ voice arsenal includes names like Rami Malek\, Timothee Chalamet\, Paul Giamatti\, Howard Stern\, Austin Butler\, Barack Obama\, Donald Trump\, and more. ​ \n\n\n\nIn 2024\, Matt hosted the NHL Awards\, which brought in record-breaking ratings for the league. ​ Additionally\, he delivered a surprise performance for President Joe Biden at the White House Correspondents Dinner. ​ In 2025\, Matt was named to People’s Sexiest Man Alive list. ​ \n\n\n\nAs a host\, presenter\, and live personality\, Matt has become a must-have across the biggest cultural events like Wimbledon\, the US Open\, Milan Fashion Week\, the Golden Globes\, the Emmys\, the SAG Awards\, the Palm Springs International Film Festival\, F1\, and more. ​ In March 2026\, he will join ABC and Live with Kelly & Mark as their official red carpet host at the Oscars. ​ \n\n\n\nOn stage\, he continues to tour internationally with his stand-up comedy\, selling out shows across the globe\, and earning praise from icons like Jamie Foxx\, Jeff Goldblum\, Howard Stern\, Barack Obama himself\, and more. ​ He’s also lent his voice talents to The Simpsons and Family Guy\, expanding his reach into animation\, and he recently wrapped production on his first feature film role. ​ \n\n\n\nMatt is a student of the craft\, with a deep passion for comedy\, politics\, pop culture\, and performance. ​ And whether he’s on stage\, on camera\, or on your For You page\, one thing is certain: Matt Friend isn’t just one to watch. ​ He’s the one doing the watching\, listening\, and perfectly imitating… with a wink. ​
URL:https://superstitionsentertainment.ca/event/matt-friend-exclusive-concert-event/2026-04-17/
LOCATION:The Laugh Shop\, 5940 Blackfoot Trail SE\, Calgary\, Alberta\, T2H 2B5\, Canada
CATEGORIES:Comedy
ATTACH;FMTTYPE=image/jpeg:https://superstitionsentertainment.ca/wp-content/uploads/2026/04/Matt-Friend-Exclusive-Concert-Event.jpg
END:VEVENT
BEGIN:VEVENT
DTSTART;TZID=America/Edmonton:20260415T200000
DTEND;TZID=America/Edmonton:20260415T233000
DTSTAMP:20260421T035200
CREATED:20260417T183129Z
LAST-MODIFIED:20260417T183132Z
UID:10000480-1776283200-1776295800@superstitionsentertainment.ca
SUMMARY:Comic 247 - Comedy Contest
DESCRIPTION:Comic 247 – Comedy Contest\n\n\n\n\n\nComics from far\, wide & right here in Calgary battle it out for the love of the audience and a Thousand Dollars cash at the Laugh Shop Wednesday’s in March and April! \n\n\n\nRacing the clock while dropping their best and brightest material\, comics try their hottest stuff to win over a room full of harsh critics\, you! The audience! \n\n\n\nYou’re the judges in Western Canada’s biggest comedy contest and you’ll help determine who will become the next Comic\, 247! \n\n\n\nTickets are $14.95\, but you can snatch them up for half price if you purchase them online in advance.
URL:https://superstitionsentertainment.ca/event/comic-247-comedy-contest/2026-04-15/
LOCATION:The Laugh Shop\, 5940 Blackfoot Trail SE\, Calgary\, Alberta\, T2H 2B5\, Canada
CATEGORIES:Comedy
ATTACH;FMTTYPE=image/jpeg:https://superstitionsentertainment.ca/wp-content/uploads/2026/04/Comic-247-Comedy-Contest.jpg
END:VEVENT
BEGIN:VEVENT
DTSTART;TZID=America/Edmonton:20260414T200000
DTEND;TZID=America/Edmonton:20260414T223000
DTSTAMP:20260421T035200
CREATED:20260417T183934Z
LAST-MODIFIED:20260417T183937Z
UID:10000484-1776196800-1776205800@superstitionsentertainment.ca
SUMMARY:Tuesday Takeover - Chris Gordon
DESCRIPTION:Tuesday Takeover – Chris Gordon\n\n\n\nTuesday Takeover – Chris Gordon \n\n\n\nJoin Chris Gordon on Tuesdays in April as he takes over the Laugh Shop! \n\n\n\nEvery Tuesday is proudly presented by our good friends at Bronc Beer\, featuring Great Buckin’ Beer specials!!! \n\n\n\nTickets are $14.95\, but you can snatch them up for half price if you purchase them online in advance.
URL:https://superstitionsentertainment.ca/event/tuesday-takeover-chris-gordon/2026-04-14/
LOCATION:The Laugh Shop\, 5940 Blackfoot Trail SE\, Calgary\, Alberta\, T2H 2B5\, Canada
END:VEVENT
BEGIN:VEVENT
DTSTART;TZID=America/Edmonton:20260408T200000
DTEND;TZID=America/Edmonton:20260408T233000
DTSTAMP:20260421T035200
CREATED:20260417T183129Z
LAST-MODIFIED:20260417T183132Z
UID:10000479-1775678400-1775691000@superstitionsentertainment.ca
SUMMARY:Comic 247 - Comedy Contest
DESCRIPTION:Comic 247 – Comedy Contest\n\n\n\n\n\nComics from far\, wide & right here in Calgary battle it out for the love of the audience and a Thousand Dollars cash at the Laugh Shop Wednesday’s in March and April! \n\n\n\nRacing the clock while dropping their best and brightest material\, comics try their hottest stuff to win over a room full of harsh critics\, you! The audience! \n\n\n\nYou’re the judges in Western Canada’s biggest comedy contest and you’ll help determine who will become the next Comic\, 247! \n\n\n\nTickets are $14.95\, but you can snatch them up for half price if you purchase them online in advance.
URL:https://superstitionsentertainment.ca/event/comic-247-comedy-contest/2026-04-08/
LOCATION:The Laugh Shop\, 5940 Blackfoot Trail SE\, Calgary\, Alberta\, T2H 2B5\, Canada
CATEGORIES:Comedy
ATTACH;FMTTYPE=image/jpeg:https://superstitionsentertainment.ca/wp-content/uploads/2026/04/Comic-247-Comedy-Contest.jpg
END:VEVENT
BEGIN:VEVENT
DTSTART;TZID=America/Edmonton:20260407T200000
DTEND;TZID=America/Edmonton:20260407T223000
DTSTAMP:20260421T035200
CREATED:20260417T183934Z
LAST-MODIFIED:20260417T183937Z
UID:10000483-1775592000-1775601000@superstitionsentertainment.ca
SUMMARY:Tuesday Takeover - Chris Gordon
DESCRIPTION:Tuesday Takeover – Chris Gordon\n\n\n\nTuesday Takeover – Chris Gordon \n\n\n\nJoin Chris Gordon on Tuesdays in April as he takes over the Laugh Shop! \n\n\n\nEvery Tuesday is proudly presented by our good friends at Bronc Beer\, featuring Great Buckin’ Beer specials!!! \n\n\n\nTickets are $14.95\, but you can snatch them up for half price if you purchase them online in advance.
URL:https://superstitionsentertainment.ca/event/tuesday-takeover-chris-gordon/2026-04-07/
LOCATION:The Laugh Shop\, 5940 Blackfoot Trail SE\, Calgary\, Alberta\, T2H 2B5\, Canada
END:VEVENT
BEGIN:VEVENT
DTSTART;TZID=America/Edmonton:20260401T200000
DTEND;TZID=America/Edmonton:20260401T233000
DTSTAMP:20260421T035200
CREATED:20260417T183129Z
LAST-MODIFIED:20260417T183132Z
UID:10000478-1775073600-1775086200@superstitionsentertainment.ca
SUMMARY:Comic 247 - Comedy Contest
DESCRIPTION:Comic 247 – Comedy Contest\n\n\n\n\n\nComics from far\, wide & right here in Calgary battle it out for the love of the audience and a Thousand Dollars cash at the Laugh Shop Wednesday’s in March and April! \n\n\n\nRacing the clock while dropping their best and brightest material\, comics try their hottest stuff to win over a room full of harsh critics\, you! The audience! \n\n\n\nYou’re the judges in Western Canada’s biggest comedy contest and you’ll help determine who will become the next Comic\, 247! \n\n\n\nTickets are $14.95\, but you can snatch them up for half price if you purchase them online in advance.
URL:https://superstitionsentertainment.ca/event/comic-247-comedy-contest/2026-04-01/
LOCATION:The Laugh Shop\, 5940 Blackfoot Trail SE\, Calgary\, Alberta\, T2H 2B5\, Canada
CATEGORIES:Comedy
ATTACH;FMTTYPE=image/jpeg:https://superstitionsentertainment.ca/wp-content/uploads/2026/04/Comic-247-Comedy-Contest.jpg
END:VEVENT
BEGIN:VEVENT
DTSTART;TZID=America/Edmonton:20260325T200000
DTEND;TZID=America/Edmonton:20260325T233000
DTSTAMP:20260421T035200
CREATED:20260417T183129Z
LAST-MODIFIED:20260417T183132Z
UID:10000477-1774468800-1774481400@superstitionsentertainment.ca
SUMMARY:Comic 247 - Comedy Contest
DESCRIPTION:Comic 247 – Comedy Contest\n\n\n\n\n\nComics from far\, wide & right here in Calgary battle it out for the love of the audience and a Thousand Dollars cash at the Laugh Shop Wednesday’s in March and April! \n\n\n\nRacing the clock while dropping their best and brightest material\, comics try their hottest stuff to win over a room full of harsh critics\, you! The audience! \n\n\n\nYou’re the judges in Western Canada’s biggest comedy contest and you’ll help determine who will become the next Comic\, 247! \n\n\n\nTickets are $14.95\, but you can snatch them up for half price if you purchase them online in advance.
URL:https://superstitionsentertainment.ca/event/comic-247-comedy-contest/2026-03-25/
LOCATION:The Laugh Shop\, 5940 Blackfoot Trail SE\, Calgary\, Alberta\, T2H 2B5\, Canada
CATEGORIES:Comedy
ATTACH;FMTTYPE=image/jpeg:https://superstitionsentertainment.ca/wp-content/uploads/2026/04/Comic-247-Comedy-Contest.jpg
END:VEVENT
BEGIN:VEVENT
DTSTART;TZID=America/Edmonton:20260318T200000
DTEND;TZID=America/Edmonton:20260318T233000
DTSTAMP:20260421T035200
CREATED:20260417T183129Z
LAST-MODIFIED:20260417T183132Z
UID:10000476-1773864000-1773876600@superstitionsentertainment.ca
SUMMARY:Comic 247 - Comedy Contest
DESCRIPTION:Comic 247 – Comedy Contest\n\n\n\n\n\nComics from far\, wide & right here in Calgary battle it out for the love of the audience and a Thousand Dollars cash at the Laugh Shop Wednesday’s in March and April! \n\n\n\nRacing the clock while dropping their best and brightest material\, comics try their hottest stuff to win over a room full of harsh critics\, you! The audience! \n\n\n\nYou’re the judges in Western Canada’s biggest comedy contest and you’ll help determine who will become the next Comic\, 247! \n\n\n\nTickets are $14.95\, but you can snatch them up for half price if you purchase them online in advance.
URL:https://superstitionsentertainment.ca/event/comic-247-comedy-contest/2026-03-18/
LOCATION:The Laugh Shop\, 5940 Blackfoot Trail SE\, Calgary\, Alberta\, T2H 2B5\, Canada
CATEGORIES:Comedy
ATTACH;FMTTYPE=image/jpeg:https://superstitionsentertainment.ca/wp-content/uploads/2026/04/Comic-247-Comedy-Contest.jpg
END:VEVENT
BEGIN:VEVENT
DTSTART;TZID=America/Edmonton:20260311T200000
DTEND;TZID=America/Edmonton:20260311T233000
DTSTAMP:20260421T035200
CREATED:20260417T183129Z
LAST-MODIFIED:20260417T183132Z
UID:10000475-1773259200-1773271800@superstitionsentertainment.ca
SUMMARY:Comic 247 - Comedy Contest
DESCRIPTION:Comic 247 – Comedy Contest\n\n\n\n\n\nComics from far\, wide & right here in Calgary battle it out for the love of the audience and a Thousand Dollars cash at the Laugh Shop Wednesday’s in March and April! \n\n\n\nRacing the clock while dropping their best and brightest material\, comics try their hottest stuff to win over a room full of harsh critics\, you! The audience! \n\n\n\nYou’re the judges in Western Canada’s biggest comedy contest and you’ll help determine who will become the next Comic\, 247! \n\n\n\nTickets are $14.95\, but you can snatch them up for half price if you purchase them online in advance.
URL:https://superstitionsentertainment.ca/event/comic-247-comedy-contest/2026-03-11/
LOCATION:The Laugh Shop\, 5940 Blackfoot Trail SE\, Calgary\, Alberta\, T2H 2B5\, Canada
CATEGORIES:Comedy
ATTACH;FMTTYPE=image/jpeg:https://superstitionsentertainment.ca/wp-content/uploads/2026/04/Comic-247-Comedy-Contest.jpg
END:VEVENT
BEGIN:VEVENT
DTSTART;TZID=America/Edmonton:20260304T200000
DTEND;TZID=America/Edmonton:20260304T233000
DTSTAMP:20260421T035200
CREATED:20260417T183129Z
LAST-MODIFIED:20260417T183132Z
UID:10000474-1772654400-1772667000@superstitionsentertainment.ca
SUMMARY:Comic 247 - Comedy Contest
DESCRIPTION:Comic 247 – Comedy Contest\n\n\n\n\n\nComics from far\, wide & right here in Calgary battle it out for the love of the audience and a Thousand Dollars cash at the Laugh Shop Wednesday’s in March and April! \n\n\n\nRacing the clock while dropping their best and brightest material\, comics try their hottest stuff to win over a room full of harsh critics\, you! The audience! \n\n\n\nYou’re the judges in Western Canada’s biggest comedy contest and you’ll help determine who will become the next Comic\, 247! \n\n\n\nTickets are $14.95\, but you can snatch them up for half price if you purchase them online in advance.
URL:https://superstitionsentertainment.ca/event/comic-247-comedy-contest/2026-03-04/
LOCATION:The Laugh Shop\, 5940 Blackfoot Trail SE\, Calgary\, Alberta\, T2H 2B5\, Canada
CATEGORIES:Comedy
ATTACH;FMTTYPE=image/jpeg:https://superstitionsentertainment.ca/wp-content/uploads/2026/04/Comic-247-Comedy-Contest.jpg
END:VEVENT
END:VCALENDAR