BEGIN:VCALENDAR
VERSION:2.0
PRODID:-//Superstitions Entertainment Empire - ECPv6.15.20//NONSGML v1.0//EN
CALSCALE:GREGORIAN
METHOD:PUBLISH
X-WR-CALNAME:Superstitions Entertainment Empire
X-ORIGINAL-URL:https://superstitionsentertainment.ca
X-WR-CALDESC:Events for Superstitions Entertainment Empire
REFRESH-INTERVAL;VALUE=DURATION:PT1H
X-Robots-Tag:noindex
X-PUBLISHED-TTL:PT1H
BEGIN:VTIMEZONE
TZID:America/Edmonton
BEGIN:DAYLIGHT
TZOFFSETFROM:-0700
TZOFFSETTO:-0600
TZNAME:MDT
DTSTART:20250309T090000
END:DAYLIGHT
BEGIN:STANDARD
TZOFFSETFROM:-0600
TZOFFSETTO:-0700
TZNAME:MST
DTSTART:20251102T080000
END:STANDARD
BEGIN:DAYLIGHT
TZOFFSETFROM:-0700
TZOFFSETTO:-0600
TZNAME:MDT
DTSTART:20260308T090000
END:DAYLIGHT
BEGIN:STANDARD
TZOFFSETFROM:-0600
TZOFFSETTO:-0700
TZNAME:MST
DTSTART:20261101T080000
END:STANDARD
BEGIN:DAYLIGHT
TZOFFSETFROM:-0700
TZOFFSETTO:-0600
TZNAME:MDT
DTSTART:20270314T090000
END:DAYLIGHT
BEGIN:STANDARD
TZOFFSETFROM:-0600
TZOFFSETTO:-0700
TZNAME:MST
DTSTART:20271107T080000
END:STANDARD
END:VTIMEZONE
BEGIN:VEVENT
DTSTART;TZID=America/Edmonton:20260527T200000
DTEND;TZID=America/Edmonton:20260527T213000
DTSTAMP:20260421T063134
CREATED:20260420T165939Z
LAST-MODIFIED:20260420T165942Z
UID:10000517-1779912000-1779917400@superstitionsentertainment.ca
SUMMARY:Tom Rhodes
DESCRIPTION:Tom Rhodes\n\n\n\nTom Rhodes*** THIS IS A RUSH SEATING PERFORMANCE *** HOLDING SEATS IS NOT PERMITTED FOR THIS EVENT *** WE ARE UNABLE TO SEAT INCOMPLETE PARTIES *** IF YOU WISH TO BE SEATED WITH OTHERS\, ENSURE YOU ALL ARRIVE TOGETHER ***\n\n\n\nTom Rhodes is an international\, world-traveling comedy sensation currently celebrating his 4th decade in stand-up. An adventurer forging his own path\, Rhodes’s career includes numerous specials\, several albums\, a sitcom – Mr. Rhodes\, a late-night talk show – Kevin Masters\, travel writing\, and his critically acclaimed podcast Tom Rhodes Smart Camp.
URL:https://superstitionsentertainment.ca/event/tom-rhodes/2026-05-27/
LOCATION:The Laugh Shop\, 5940 Blackfoot Trail SE\, Calgary\, Alberta\, T2H 2B5\, Canada
CATEGORIES:Comedy
ATTACH;FMTTYPE=image/png:https://superstitionsentertainment.ca/wp-content/uploads/2026/04/Tom-Rhodes.png
END:VEVENT
BEGIN:VEVENT
DTSTART;TZID=America/Edmonton:20260528T200000
DTEND;TZID=America/Edmonton:20260528T213000
DTSTAMP:20260421T063134
CREATED:20260420T165939Z
LAST-MODIFIED:20260420T165942Z
UID:10000518-1779998400-1780003800@superstitionsentertainment.ca
SUMMARY:Tom Rhodes
DESCRIPTION:Tom Rhodes\n\n\n\nTom Rhodes*** THIS IS A RUSH SEATING PERFORMANCE *** HOLDING SEATS IS NOT PERMITTED FOR THIS EVENT *** WE ARE UNABLE TO SEAT INCOMPLETE PARTIES *** IF YOU WISH TO BE SEATED WITH OTHERS\, ENSURE YOU ALL ARRIVE TOGETHER ***\n\n\n\nTom Rhodes is an international\, world-traveling comedy sensation currently celebrating his 4th decade in stand-up. An adventurer forging his own path\, Rhodes’s career includes numerous specials\, several albums\, a sitcom – Mr. Rhodes\, a late-night talk show – Kevin Masters\, travel writing\, and his critically acclaimed podcast Tom Rhodes Smart Camp.
URL:https://superstitionsentertainment.ca/event/tom-rhodes/2026-05-28/
LOCATION:The Laugh Shop\, 5940 Blackfoot Trail SE\, Calgary\, Alberta\, T2H 2B5\, Canada
CATEGORIES:Comedy
ATTACH;FMTTYPE=image/png:https://superstitionsentertainment.ca/wp-content/uploads/2026/04/Tom-Rhodes.png
END:VEVENT
BEGIN:VEVENT
DTSTART;TZID=America/Edmonton:20260529T200000
DTEND;TZID=America/Edmonton:20260529T213000
DTSTAMP:20260421T063134
CREATED:20260420T165939Z
LAST-MODIFIED:20260420T165942Z
UID:10000519-1780084800-1780090200@superstitionsentertainment.ca
SUMMARY:Tom Rhodes
DESCRIPTION:Tom Rhodes\n\n\n\nTom Rhodes*** THIS IS A RUSH SEATING PERFORMANCE *** HOLDING SEATS IS NOT PERMITTED FOR THIS EVENT *** WE ARE UNABLE TO SEAT INCOMPLETE PARTIES *** IF YOU WISH TO BE SEATED WITH OTHERS\, ENSURE YOU ALL ARRIVE TOGETHER ***\n\n\n\nTom Rhodes is an international\, world-traveling comedy sensation currently celebrating his 4th decade in stand-up. An adventurer forging his own path\, Rhodes’s career includes numerous specials\, several albums\, a sitcom – Mr. Rhodes\, a late-night talk show – Kevin Masters\, travel writing\, and his critically acclaimed podcast Tom Rhodes Smart Camp.
URL:https://superstitionsentertainment.ca/event/tom-rhodes/2026-05-29/
LOCATION:The Laugh Shop\, 5940 Blackfoot Trail SE\, Calgary\, Alberta\, T2H 2B5\, Canada
CATEGORIES:Comedy
ATTACH;FMTTYPE=image/png:https://superstitionsentertainment.ca/wp-content/uploads/2026/04/Tom-Rhodes.png
END:VEVENT
BEGIN:VEVENT
DTSTART;TZID=America/Edmonton:20260530T183000
DTEND;TZID=America/Edmonton:20260530T200000
DTSTAMP:20260421T063134
CREATED:20260420T165939Z
LAST-MODIFIED:20260420T165942Z
UID:10000520-1780165800-1780171200@superstitionsentertainment.ca
SUMMARY:Tom Rhodes
DESCRIPTION:Tom Rhodes\n\n\n\nTom Rhodes*** THIS IS A RUSH SEATING PERFORMANCE *** HOLDING SEATS IS NOT PERMITTED FOR THIS EVENT *** WE ARE UNABLE TO SEAT INCOMPLETE PARTIES *** IF YOU WISH TO BE SEATED WITH OTHERS\, ENSURE YOU ALL ARRIVE TOGETHER ***\n\n\n\nTom Rhodes is an international\, world-traveling comedy sensation currently celebrating his 4th decade in stand-up. An adventurer forging his own path\, Rhodes’s career includes numerous specials\, several albums\, a sitcom – Mr. Rhodes\, a late-night talk show – Kevin Masters\, travel writing\, and his critically acclaimed podcast Tom Rhodes Smart Camp.
URL:https://superstitionsentertainment.ca/event/tom-rhodes/2026-05-30/1/
LOCATION:The Laugh Shop\, 5940 Blackfoot Trail SE\, Calgary\, Alberta\, T2H 2B5\, Canada
CATEGORIES:Comedy
ATTACH;FMTTYPE=image/png:https://superstitionsentertainment.ca/wp-content/uploads/2026/04/Tom-Rhodes.png
END:VEVENT
BEGIN:VEVENT
DTSTART;TZID=America/Edmonton:20260530T210000
DTEND;TZID=America/Edmonton:20260530T223000
DTSTAMP:20260421T063134
CREATED:20260420T165939Z
LAST-MODIFIED:20260420T165942Z
UID:10000521-1780174800-1780180200@superstitionsentertainment.ca
SUMMARY:Tom Rhodes
DESCRIPTION:Tom Rhodes\n\n\n\nTom Rhodes*** THIS IS A RUSH SEATING PERFORMANCE *** HOLDING SEATS IS NOT PERMITTED FOR THIS EVENT *** WE ARE UNABLE TO SEAT INCOMPLETE PARTIES *** IF YOU WISH TO BE SEATED WITH OTHERS\, ENSURE YOU ALL ARRIVE TOGETHER ***\n\n\n\nTom Rhodes is an international\, world-traveling comedy sensation currently celebrating his 4th decade in stand-up. An adventurer forging his own path\, Rhodes’s career includes numerous specials\, several albums\, a sitcom – Mr. Rhodes\, a late-night talk show – Kevin Masters\, travel writing\, and his critically acclaimed podcast Tom Rhodes Smart Camp.
URL:https://superstitionsentertainment.ca/event/tom-rhodes/2026-05-30/2/
LOCATION:The Laugh Shop\, 5940 Blackfoot Trail SE\, Calgary\, Alberta\, T2H 2B5\, Canada
CATEGORIES:Comedy
ATTACH;FMTTYPE=image/png:https://superstitionsentertainment.ca/wp-content/uploads/2026/04/Tom-Rhodes.png
END:VEVENT
END:VCALENDAR