BEGIN:VCALENDAR
VERSION:2.0
PRODID:-//Superstitions Entertainment Empire - ECPv6.15.20//NONSGML v1.0//EN
CALSCALE:GREGORIAN
METHOD:PUBLISH
X-WR-CALNAME:Superstitions Entertainment Empire
X-ORIGINAL-URL:https://superstitionsentertainment.ca
X-WR-CALDESC:Events for Superstitions Entertainment Empire
REFRESH-INTERVAL;VALUE=DURATION:PT1H
X-Robots-Tag:noindex
X-PUBLISHED-TTL:PT1H
BEGIN:VTIMEZONE
TZID:America/Edmonton
BEGIN:DAYLIGHT
TZOFFSETFROM:-0700
TZOFFSETTO:-0600
TZNAME:MDT
DTSTART:20250309T090000
END:DAYLIGHT
BEGIN:STANDARD
TZOFFSETFROM:-0600
TZOFFSETTO:-0700
TZNAME:MST
DTSTART:20251102T080000
END:STANDARD
BEGIN:DAYLIGHT
TZOFFSETFROM:-0700
TZOFFSETTO:-0600
TZNAME:MDT
DTSTART:20260308T090000
END:DAYLIGHT
BEGIN:STANDARD
TZOFFSETFROM:-0600
TZOFFSETTO:-0700
TZNAME:MST
DTSTART:20261101T080000
END:STANDARD
BEGIN:DAYLIGHT
TZOFFSETFROM:-0700
TZOFFSETTO:-0600
TZNAME:MDT
DTSTART:20270314T090000
END:DAYLIGHT
BEGIN:STANDARD
TZOFFSETFROM:-0600
TZOFFSETTO:-0700
TZNAME:MST
DTSTART:20271107T080000
END:STANDARD
END:VTIMEZONE
BEGIN:VEVENT
DTSTART;TZID=America/Edmonton:20260522T183000
DTEND;TZID=America/Edmonton:20260522T203000
DTSTAMP:20260421T063648
CREATED:20260420T163116Z
LAST-MODIFIED:20260420T163120Z
UID:10000513-1779474600-1779481800@superstitionsentertainment.ca
SUMMARY:Drew Lynch - Exclusive Concert Event
DESCRIPTION:Drew Lynch – Exclusive Concert Event\n\n\n\nDrew Lynch – Exclusive Concert Event\n\n\n\n*** THIS IS A RUSH SEATING PERFORMANCE *** HOLDING SEATS IS NOT PERMITTED FOR THIS EVENT *** WE ARE UNABLE TO SEAT INCOMPLETE PARTIES *** IF YOU WISH TO BE SEATED WITH OTHERS\, ENSURE YOU ALL ARRIVE TOGETHER ***\n\n\n\nComedian and actor Drew Lynch captured the hearts of America with his Golden Buzzer performance on Season 10 of America’s Got Talent (NBC)\, where he finished in second place. Since then\, Drew has amassed millions of followers on social media while touring the world nonstop to sold out audiences. In February 2023\, Drew released his second special ‘And These Are Jokes’ which is catching steam all over the internet. He also appeared in a recurring role in the final season of IFC’s hit series Maron as well as TBS’ Conan. A favorite on the podcast circuit\, Drew has made multiple appearances on some of the most downloaded shows\, giving his unique take on everything from pop culture to news headlines to the life of a traveling comic.
URL:https://superstitionsentertainment.ca/event/drew-lynch-exclusive-concert-event/2026-05-22/1/
LOCATION:The Laugh Shop\, 5940 Blackfoot Trail SE\, Calgary\, Alberta\, T2H 2B5\, Canada
CATEGORIES:Comedy
ATTACH;FMTTYPE=image/png:https://superstitionsentertainment.ca/wp-content/uploads/2026/04/Drew-Lynch-Exclusive-Concert-Event.png
END:VEVENT
BEGIN:VEVENT
DTSTART;TZID=America/Edmonton:20260522T210000
DTEND;TZID=America/Edmonton:20260522T223000
DTSTAMP:20260421T063648
CREATED:20260420T163116Z
LAST-MODIFIED:20260420T163120Z
UID:10000514-1779483600-1779489000@superstitionsentertainment.ca
SUMMARY:Drew Lynch - Exclusive Concert Event
DESCRIPTION:Drew Lynch – Exclusive Concert Event\n\n\n\nDrew Lynch – Exclusive Concert Event\n\n\n\n*** THIS IS A RUSH SEATING PERFORMANCE *** HOLDING SEATS IS NOT PERMITTED FOR THIS EVENT *** WE ARE UNABLE TO SEAT INCOMPLETE PARTIES *** IF YOU WISH TO BE SEATED WITH OTHERS\, ENSURE YOU ALL ARRIVE TOGETHER ***\n\n\n\nComedian and actor Drew Lynch captured the hearts of America with his Golden Buzzer performance on Season 10 of America’s Got Talent (NBC)\, where he finished in second place. Since then\, Drew has amassed millions of followers on social media while touring the world nonstop to sold out audiences. In February 2023\, Drew released his second special ‘And These Are Jokes’ which is catching steam all over the internet. He also appeared in a recurring role in the final season of IFC’s hit series Maron as well as TBS’ Conan. A favorite on the podcast circuit\, Drew has made multiple appearances on some of the most downloaded shows\, giving his unique take on everything from pop culture to news headlines to the life of a traveling comic.
URL:https://superstitionsentertainment.ca/event/drew-lynch-exclusive-concert-event/2026-05-22/2/
LOCATION:The Laugh Shop\, 5940 Blackfoot Trail SE\, Calgary\, Alberta\, T2H 2B5\, Canada
CATEGORIES:Comedy
ATTACH;FMTTYPE=image/png:https://superstitionsentertainment.ca/wp-content/uploads/2026/04/Drew-Lynch-Exclusive-Concert-Event.png
END:VEVENT
BEGIN:VEVENT
DTSTART;TZID=America/Edmonton:20260523T180000
DTEND;TZID=America/Edmonton:20260523T193000
DTSTAMP:20260421T063648
CREATED:20260420T163116Z
LAST-MODIFIED:20260420T163120Z
UID:10000515-1779559200-1779564600@superstitionsentertainment.ca
SUMMARY:Drew Lynch - Exclusive Concert Event
DESCRIPTION:Drew Lynch – Exclusive Concert Event\n\n\n\nDrew Lynch – Exclusive Concert Event\n\n\n\n*** THIS IS A RUSH SEATING PERFORMANCE *** HOLDING SEATS IS NOT PERMITTED FOR THIS EVENT *** WE ARE UNABLE TO SEAT INCOMPLETE PARTIES *** IF YOU WISH TO BE SEATED WITH OTHERS\, ENSURE YOU ALL ARRIVE TOGETHER ***\n\n\n\nComedian and actor Drew Lynch captured the hearts of America with his Golden Buzzer performance on Season 10 of America’s Got Talent (NBC)\, where he finished in second place. Since then\, Drew has amassed millions of followers on social media while touring the world nonstop to sold out audiences. In February 2023\, Drew released his second special ‘And These Are Jokes’ which is catching steam all over the internet. He also appeared in a recurring role in the final season of IFC’s hit series Maron as well as TBS’ Conan. A favorite on the podcast circuit\, Drew has made multiple appearances on some of the most downloaded shows\, giving his unique take on everything from pop culture to news headlines to the life of a traveling comic.
URL:https://superstitionsentertainment.ca/event/drew-lynch-exclusive-concert-event/2026-05-23/1/
LOCATION:The Laugh Shop\, 5940 Blackfoot Trail SE\, Calgary\, Alberta\, T2H 2B5\, Canada
CATEGORIES:Comedy
ATTACH;FMTTYPE=image/png:https://superstitionsentertainment.ca/wp-content/uploads/2026/04/Drew-Lynch-Exclusive-Concert-Event.png
END:VEVENT
BEGIN:VEVENT
DTSTART;TZID=America/Edmonton:20260523T203000
DTEND;TZID=America/Edmonton:20260523T220000
DTSTAMP:20260421T063648
CREATED:20260420T163116Z
LAST-MODIFIED:20260420T163120Z
UID:10000516-1779568200-1779573600@superstitionsentertainment.ca
SUMMARY:Drew Lynch - Exclusive Concert Event
DESCRIPTION:Drew Lynch – Exclusive Concert Event\n\n\n\nDrew Lynch – Exclusive Concert Event\n\n\n\n*** THIS IS A RUSH SEATING PERFORMANCE *** HOLDING SEATS IS NOT PERMITTED FOR THIS EVENT *** WE ARE UNABLE TO SEAT INCOMPLETE PARTIES *** IF YOU WISH TO BE SEATED WITH OTHERS\, ENSURE YOU ALL ARRIVE TOGETHER ***\n\n\n\nComedian and actor Drew Lynch captured the hearts of America with his Golden Buzzer performance on Season 10 of America’s Got Talent (NBC)\, where he finished in second place. Since then\, Drew has amassed millions of followers on social media while touring the world nonstop to sold out audiences. In February 2023\, Drew released his second special ‘And These Are Jokes’ which is catching steam all over the internet. He also appeared in a recurring role in the final season of IFC’s hit series Maron as well as TBS’ Conan. A favorite on the podcast circuit\, Drew has made multiple appearances on some of the most downloaded shows\, giving his unique take on everything from pop culture to news headlines to the life of a traveling comic.
URL:https://superstitionsentertainment.ca/event/drew-lynch-exclusive-concert-event/2026-05-23/2/
LOCATION:The Laugh Shop\, 5940 Blackfoot Trail SE\, Calgary\, Alberta\, T2H 2B5\, Canada
CATEGORIES:Comedy
ATTACH;FMTTYPE=image/png:https://superstitionsentertainment.ca/wp-content/uploads/2026/04/Drew-Lynch-Exclusive-Concert-Event.png
END:VEVENT
END:VCALENDAR