BEGIN:VCALENDAR
VERSION:2.0
PRODID:-//Superstitions Entertainment Empire - ECPv6.15.20//NONSGML v1.0//EN
CALSCALE:GREGORIAN
METHOD:PUBLISH
X-WR-CALNAME:Superstitions Entertainment Empire
X-ORIGINAL-URL:https://superstitionsentertainment.ca
X-WR-CALDESC:Events for Superstitions Entertainment Empire
REFRESH-INTERVAL;VALUE=DURATION:PT1H
X-Robots-Tag:noindex
X-PUBLISHED-TTL:PT1H
BEGIN:VTIMEZONE
TZID:America/Edmonton
BEGIN:DAYLIGHT
TZOFFSETFROM:-0700
TZOFFSETTO:-0600
TZNAME:MDT
DTSTART:20250309T090000
END:DAYLIGHT
BEGIN:STANDARD
TZOFFSETFROM:-0600
TZOFFSETTO:-0700
TZNAME:MST
DTSTART:20251102T080000
END:STANDARD
BEGIN:DAYLIGHT
TZOFFSETFROM:-0700
TZOFFSETTO:-0600
TZNAME:MDT
DTSTART:20260308T090000
END:DAYLIGHT
BEGIN:STANDARD
TZOFFSETFROM:-0600
TZOFFSETTO:-0700
TZNAME:MST
DTSTART:20261101T080000
END:STANDARD
BEGIN:DAYLIGHT
TZOFFSETFROM:-0700
TZOFFSETTO:-0600
TZNAME:MDT
DTSTART:20270314T090000
END:DAYLIGHT
BEGIN:STANDARD
TZOFFSETFROM:-0600
TZOFFSETTO:-0700
TZNAME:MST
DTSTART:20271107T080000
END:STANDARD
END:VTIMEZONE
BEGIN:VEVENT
DTSTART;TZID=America/Edmonton:20260513T200000
DTEND;TZID=America/Edmonton:20260513T213000
DTSTAMP:20260421T050821
CREATED:20260420T160318Z
LAST-MODIFIED:20260420T160322Z
UID:10000507-1778702400-1778707800@superstitionsentertainment.ca
SUMMARY:Kevin Bozeman
DESCRIPTION:Kevin Bozeman\n\n\n\nKevin Bozeman\n\n\n\n*** THIS IS A RUSH SEATING PERFORMANCE *** HOLDING SEATS IS NOT PERMITTED FOR THIS EVENT *** WE ARE UNABLE TO SEAT INCOMPLETE PARTIES *** IF YOU WISH TO BE SEATED WITH OTHERS\, ENSURE YOU ALL ARRIVE TOGETHER *** \n\n\n\nIt was 1999\, six years after finishing his collegiate basketball career at Division III Whitewater College\, and bouncing around jobs that Kevin found himself in the real world with no real job skills and a strong desire to work an hour a day.  What to do?  Inspired by nights on the couch watching Def Comedy Jam and challenged by his roommate\, Kevin decided to head over to nearby Madison\, WI and try the “Open-Mic Night”.  “I always was the guy who could make people laugh\, and lets be honest I had nothing better going on”. \n\n\n\nFast forward to present day\, Kevin is still going on-stage\, and he has found the job that fit his requirements.  “For an hour a night I’m wildly successful”.  With a smooth and clever style\, a great smile and a contagious laugh Kevin has been entertaining in clubs and colleges across the country.  In 2000 he was the winner of the Midwest region of the HBO “Comedy Competition” and flew to Los Angeles to compete as a finalist.  He performed on Comedy Central’s “Premium Blend” in 2003\, and finished 2nd in the Boston Comedy Competition in 2005.  He was a semi-finalist on NBC’s “Last Comic Standing” in 2015.  Kevin has appeared on Comedy Central\, NBC\, CBS and Fox.  His Dry Bar Comedy Special\, “Clean & Unfiltered” has over  7 million views.
URL:https://superstitionsentertainment.ca/event/kevin-bozeman/2026-05-13/
LOCATION:The Laugh Shop\, 5940 Blackfoot Trail SE\, Calgary\, Alberta\, T2H 2B5\, Canada
CATEGORIES:Comedy
ATTACH;FMTTYPE=image/png:https://superstitionsentertainment.ca/wp-content/uploads/2026/04/Kevin-Bozeman.png
END:VEVENT
BEGIN:VEVENT
DTSTART;TZID=America/Edmonton:20260514T200000
DTEND;TZID=America/Edmonton:20260514T213000
DTSTAMP:20260421T050821
CREATED:20260420T160318Z
LAST-MODIFIED:20260420T160322Z
UID:10000508-1778788800-1778794200@superstitionsentertainment.ca
SUMMARY:Kevin Bozeman
DESCRIPTION:Kevin Bozeman\n\n\n\nKevin Bozeman\n\n\n\n*** THIS IS A RUSH SEATING PERFORMANCE *** HOLDING SEATS IS NOT PERMITTED FOR THIS EVENT *** WE ARE UNABLE TO SEAT INCOMPLETE PARTIES *** IF YOU WISH TO BE SEATED WITH OTHERS\, ENSURE YOU ALL ARRIVE TOGETHER *** \n\n\n\nIt was 1999\, six years after finishing his collegiate basketball career at Division III Whitewater College\, and bouncing around jobs that Kevin found himself in the real world with no real job skills and a strong desire to work an hour a day.  What to do?  Inspired by nights on the couch watching Def Comedy Jam and challenged by his roommate\, Kevin decided to head over to nearby Madison\, WI and try the “Open-Mic Night”.  “I always was the guy who could make people laugh\, and lets be honest I had nothing better going on”. \n\n\n\nFast forward to present day\, Kevin is still going on-stage\, and he has found the job that fit his requirements.  “For an hour a night I’m wildly successful”.  With a smooth and clever style\, a great smile and a contagious laugh Kevin has been entertaining in clubs and colleges across the country.  In 2000 he was the winner of the Midwest region of the HBO “Comedy Competition” and flew to Los Angeles to compete as a finalist.  He performed on Comedy Central’s “Premium Blend” in 2003\, and finished 2nd in the Boston Comedy Competition in 2005.  He was a semi-finalist on NBC’s “Last Comic Standing” in 2015.  Kevin has appeared on Comedy Central\, NBC\, CBS and Fox.  His Dry Bar Comedy Special\, “Clean & Unfiltered” has over  7 million views.
URL:https://superstitionsentertainment.ca/event/kevin-bozeman/2026-05-14/
LOCATION:The Laugh Shop\, 5940 Blackfoot Trail SE\, Calgary\, Alberta\, T2H 2B5\, Canada
CATEGORIES:Comedy
ATTACH;FMTTYPE=image/png:https://superstitionsentertainment.ca/wp-content/uploads/2026/04/Kevin-Bozeman.png
END:VEVENT
BEGIN:VEVENT
DTSTART;TZID=America/Edmonton:20260515T200000
DTEND;TZID=America/Edmonton:20260515T213000
DTSTAMP:20260421T050821
CREATED:20260420T160318Z
LAST-MODIFIED:20260420T160322Z
UID:10000509-1778875200-1778880600@superstitionsentertainment.ca
SUMMARY:Kevin Bozeman
DESCRIPTION:Kevin Bozeman\n\n\n\nKevin Bozeman\n\n\n\n*** THIS IS A RUSH SEATING PERFORMANCE *** HOLDING SEATS IS NOT PERMITTED FOR THIS EVENT *** WE ARE UNABLE TO SEAT INCOMPLETE PARTIES *** IF YOU WISH TO BE SEATED WITH OTHERS\, ENSURE YOU ALL ARRIVE TOGETHER *** \n\n\n\nIt was 1999\, six years after finishing his collegiate basketball career at Division III Whitewater College\, and bouncing around jobs that Kevin found himself in the real world with no real job skills and a strong desire to work an hour a day.  What to do?  Inspired by nights on the couch watching Def Comedy Jam and challenged by his roommate\, Kevin decided to head over to nearby Madison\, WI and try the “Open-Mic Night”.  “I always was the guy who could make people laugh\, and lets be honest I had nothing better going on”. \n\n\n\nFast forward to present day\, Kevin is still going on-stage\, and he has found the job that fit his requirements.  “For an hour a night I’m wildly successful”.  With a smooth and clever style\, a great smile and a contagious laugh Kevin has been entertaining in clubs and colleges across the country.  In 2000 he was the winner of the Midwest region of the HBO “Comedy Competition” and flew to Los Angeles to compete as a finalist.  He performed on Comedy Central’s “Premium Blend” in 2003\, and finished 2nd in the Boston Comedy Competition in 2005.  He was a semi-finalist on NBC’s “Last Comic Standing” in 2015.  Kevin has appeared on Comedy Central\, NBC\, CBS and Fox.  His Dry Bar Comedy Special\, “Clean & Unfiltered” has over  7 million views.
URL:https://superstitionsentertainment.ca/event/kevin-bozeman/2026-05-15/
LOCATION:The Laugh Shop\, 5940 Blackfoot Trail SE\, Calgary\, Alberta\, T2H 2B5\, Canada
CATEGORIES:Comedy
ATTACH;FMTTYPE=image/png:https://superstitionsentertainment.ca/wp-content/uploads/2026/04/Kevin-Bozeman.png
END:VEVENT
BEGIN:VEVENT
DTSTART;TZID=America/Edmonton:20260516T183000
DTEND;TZID=America/Edmonton:20260516T200000
DTSTAMP:20260421T050821
CREATED:20260420T160318Z
LAST-MODIFIED:20260420T160322Z
UID:10000510-1778956200-1778961600@superstitionsentertainment.ca
SUMMARY:Kevin Bozeman
DESCRIPTION:Kevin Bozeman\n\n\n\nKevin Bozeman\n\n\n\n*** THIS IS A RUSH SEATING PERFORMANCE *** HOLDING SEATS IS NOT PERMITTED FOR THIS EVENT *** WE ARE UNABLE TO SEAT INCOMPLETE PARTIES *** IF YOU WISH TO BE SEATED WITH OTHERS\, ENSURE YOU ALL ARRIVE TOGETHER *** \n\n\n\nIt was 1999\, six years after finishing his collegiate basketball career at Division III Whitewater College\, and bouncing around jobs that Kevin found himself in the real world with no real job skills and a strong desire to work an hour a day.  What to do?  Inspired by nights on the couch watching Def Comedy Jam and challenged by his roommate\, Kevin decided to head over to nearby Madison\, WI and try the “Open-Mic Night”.  “I always was the guy who could make people laugh\, and lets be honest I had nothing better going on”. \n\n\n\nFast forward to present day\, Kevin is still going on-stage\, and he has found the job that fit his requirements.  “For an hour a night I’m wildly successful”.  With a smooth and clever style\, a great smile and a contagious laugh Kevin has been entertaining in clubs and colleges across the country.  In 2000 he was the winner of the Midwest region of the HBO “Comedy Competition” and flew to Los Angeles to compete as a finalist.  He performed on Comedy Central’s “Premium Blend” in 2003\, and finished 2nd in the Boston Comedy Competition in 2005.  He was a semi-finalist on NBC’s “Last Comic Standing” in 2015.  Kevin has appeared on Comedy Central\, NBC\, CBS and Fox.  His Dry Bar Comedy Special\, “Clean & Unfiltered” has over  7 million views.
URL:https://superstitionsentertainment.ca/event/kevin-bozeman/2026-05-16/1/
LOCATION:The Laugh Shop\, 5940 Blackfoot Trail SE\, Calgary\, Alberta\, T2H 2B5\, Canada
CATEGORIES:Comedy
ATTACH;FMTTYPE=image/png:https://superstitionsentertainment.ca/wp-content/uploads/2026/04/Kevin-Bozeman.png
END:VEVENT
BEGIN:VEVENT
DTSTART;TZID=America/Edmonton:20260516T210000
DTEND;TZID=America/Edmonton:20260516T223000
DTSTAMP:20260421T050821
CREATED:20260420T160318Z
LAST-MODIFIED:20260420T160322Z
UID:10000511-1778965200-1778970600@superstitionsentertainment.ca
SUMMARY:Kevin Bozeman
DESCRIPTION:Kevin Bozeman\n\n\n\nKevin Bozeman\n\n\n\n*** THIS IS A RUSH SEATING PERFORMANCE *** HOLDING SEATS IS NOT PERMITTED FOR THIS EVENT *** WE ARE UNABLE TO SEAT INCOMPLETE PARTIES *** IF YOU WISH TO BE SEATED WITH OTHERS\, ENSURE YOU ALL ARRIVE TOGETHER *** \n\n\n\nIt was 1999\, six years after finishing his collegiate basketball career at Division III Whitewater College\, and bouncing around jobs that Kevin found himself in the real world with no real job skills and a strong desire to work an hour a day.  What to do?  Inspired by nights on the couch watching Def Comedy Jam and challenged by his roommate\, Kevin decided to head over to nearby Madison\, WI and try the “Open-Mic Night”.  “I always was the guy who could make people laugh\, and lets be honest I had nothing better going on”. \n\n\n\nFast forward to present day\, Kevin is still going on-stage\, and he has found the job that fit his requirements.  “For an hour a night I’m wildly successful”.  With a smooth and clever style\, a great smile and a contagious laugh Kevin has been entertaining in clubs and colleges across the country.  In 2000 he was the winner of the Midwest region of the HBO “Comedy Competition” and flew to Los Angeles to compete as a finalist.  He performed on Comedy Central’s “Premium Blend” in 2003\, and finished 2nd in the Boston Comedy Competition in 2005.  He was a semi-finalist on NBC’s “Last Comic Standing” in 2015.  Kevin has appeared on Comedy Central\, NBC\, CBS and Fox.  His Dry Bar Comedy Special\, “Clean & Unfiltered” has over  7 million views.
URL:https://superstitionsentertainment.ca/event/kevin-bozeman/2026-05-16/2/
LOCATION:The Laugh Shop\, 5940 Blackfoot Trail SE\, Calgary\, Alberta\, T2H 2B5\, Canada
CATEGORIES:Comedy
ATTACH;FMTTYPE=image/png:https://superstitionsentertainment.ca/wp-content/uploads/2026/04/Kevin-Bozeman.png
END:VEVENT
END:VCALENDAR