BEGIN:VCALENDAR
VERSION:2.0
PRODID:-//Superstitions Entertainment Empire - ECPv6.15.20//NONSGML v1.0//EN
CALSCALE:GREGORIAN
METHOD:PUBLISH
X-WR-CALNAME:Superstitions Entertainment Empire
X-ORIGINAL-URL:https://superstitionsentertainment.ca
X-WR-CALDESC:Events for Superstitions Entertainment Empire
REFRESH-INTERVAL;VALUE=DURATION:PT1H
X-Robots-Tag:noindex
X-PUBLISHED-TTL:PT1H
BEGIN:VTIMEZONE
TZID:America/Edmonton
BEGIN:DAYLIGHT
TZOFFSETFROM:-0700
TZOFFSETTO:-0600
TZNAME:MDT
DTSTART:20230312T090000
END:DAYLIGHT
BEGIN:STANDARD
TZOFFSETFROM:-0600
TZOFFSETTO:-0700
TZNAME:MST
DTSTART:20231105T080000
END:STANDARD
BEGIN:DAYLIGHT
TZOFFSETFROM:-0700
TZOFFSETTO:-0600
TZNAME:MDT
DTSTART:20240310T090000
END:DAYLIGHT
BEGIN:STANDARD
TZOFFSETFROM:-0600
TZOFFSETTO:-0700
TZNAME:MST
DTSTART:20241103T080000
END:STANDARD
BEGIN:DAYLIGHT
TZOFFSETFROM:-0700
TZOFFSETTO:-0600
TZNAME:MDT
DTSTART:20250309T090000
END:DAYLIGHT
BEGIN:STANDARD
TZOFFSETFROM:-0600
TZOFFSETTO:-0700
TZNAME:MST
DTSTART:20251102T080000
END:STANDARD
END:VTIMEZONE
BEGIN:VEVENT
DTSTART;TZID=America/Edmonton:20240906T200000
DTEND;TZID=America/Edmonton:20240906T233000
DTSTAMP:20260422T012420
CREATED:20240904T194214Z
LAST-MODIFIED:20240904T194215Z
UID:10000040-1725652800-1725665400@superstitionsentertainment.ca
SUMMARY:MARCUS KING MOOD SWINGS THE WORLD TOUR
DESCRIPTION:MARCUS KING MOOD SWINGS THE WORLD TOUR\n\n\n\nMARCUS KING: MOOD SWINGS THE WORLD TOUR – September 6Event DetailsReserved Seating – All Ages \n\n\n\nDate: Friday\, September 6 \n\n\n\nDoors: 7:00 PM \n\n\n\nShow Time: 8:00 PM \n\n\n\nEvent Cost: Tickets starting at $29.50 (Plus applicable fees) \n\n\n\nAbout This PerformanceMarcus King faces heartache\, addiction\, and mental health head-on in his music. Pain quakes below the vibrato of his voice\, and his delivery weighs heavy with booze-drenched regrets and mistakes in lonely hotels. The GRAMMY® nominated fourth-generation musician from Greenville\, SC\, started playing guitar at 8 years old following in the footsteps of his guitarist father and grandpa. Logging thousands of miles on the road as “The Marcus King Band\,” he established himself with unparalleled performance prowess. \n\n\n\nDuring 2020\, he linked up with Dan Auerbach and cut his solo debut El Dorado\, garnering a GRAMMY® Award nomination for “Best Americana Album.” Between headlining venues\, he performed alongside Chris Stapleton\, Greta Van Fleet\, and Nathanial Rateliff in addition to gracing the bills of Stagecoach and more. He has launched various mental health initiatives\, including a guitar auction collaboration with MusiCares. \n\n\n\nNow\, his 2024 album Mood Swings feels like the moment of baptism when water washes away a life’s worth of sins and degradation and all that’s left is a revived\, yet still real-as-hell primal scream. It’s as if King strained raw soul straight from his gut up through that broken heart and on to the record under the watchful eye of Rick Rubin. Emphasizing his vocals front-and-center more than ever before\, the trusty guitar he’s so often associated with plays the sideman this time around (though there’s no shortage of impressive shredding). For as dark as everything seemed\, you can’t help but feel a sense of hope in the power of Marcus’s voice.
URL:https://superstitionsentertainment.ca/event/marcus-king-mood-swings-the-world-tour/
LOCATION:Grey Eagle Resort & Casino\, 3777 Grey Eagle Drive\, Tsuut’ina\, Alberta\, T3E 3X8\, Canada
CATEGORIES:Music
ATTACH;FMTTYPE=image/png:https://superstitionsentertainment.ca/wp-content/uploads/2024/09/MARCUS-KING-MOOD-SWINGS-THE-WORLD-TOUR.png
END:VEVENT
BEGIN:VEVENT
DTSTART;TZID=America/Edmonton:20240905T210000
DTEND;TZID=America/Edmonton:20240905T233000
DTSTAMP:20260422T012420
CREATED:20240904T164504Z
LAST-MODIFIED:20240904T164505Z
UID:10000032-1725570000-1725579000@superstitionsentertainment.ca
SUMMARY:ABBA Mania & Night Fever – Tribute to ABBA & The Bee Gees
DESCRIPTION:ABBA Mania & Night Fever – Tribute to ABBA & The Bee Gees\n\n\n\nDon’t miss a night full of fun with ABBAMANIA and NIGHT FEVER as they relive an endless list of hits by ABBA and The BEE GEES\, live in the Chrome Showroom!Wristbands: 6:30pm \n\n\n\nDoors: 8:00pm \n\n\n\nShow: 9:00pm
URL:https://superstitionsentertainment.ca/event/abba-mania-night-fever-tribute-to-abba-the-bee-gees/
LOCATION:Deerfoot Inn & Casino\, 1000\, 11500 - 35st SE\, Calgary\, Alberta\, T2Z 3W4\, Canada
CATEGORIES:Music
ATTACH;FMTTYPE=image/png:https://superstitionsentertainment.ca/wp-content/uploads/2024/09/Abba-Mania-Night-Fever-Tribute-the-Bee-Gees-2024-12x18-1-1024x1536-1.png
END:VEVENT
BEGIN:VEVENT
DTSTART;TZID=America/Edmonton:20240905T190000
DTEND;TZID=America/Edmonton:20240905T233000
DTSTAMP:20260422T012420
CREATED:20240904T193431Z
LAST-MODIFIED:20240904T193432Z
UID:10000039-1725562800-1725579000@superstitionsentertainment.ca
SUMMARY:Frank Turner & The Sleeping Souls – Undefeated Canadian Tour With Special Guests Bedouin Soundclash and Bridge City Sinners
DESCRIPTION:Frank Turner & The Sleeping Souls – Undefeated Canadian Tour With Special Guests Bedouin Soundclash and Bridge City Sinners\n\n\n\nFrank Turner & The Sleeping Souls – Undefeated Canadian Tour With Special Guests Bedouin Soundclash and Bridge City Sinners – September 5\, 2024Event DetailsGeneral Admission – All Ages \n\n\n\nDate: Thursday\, September 5 \n\n\n\nDoors: 6:00 PM \n\n\n\nShow Time: 7:00 PM \n\n\n\nOpening Bands: Bedouin Soundclash and Bridge City Sinners \n\n\n\nEvent Cost: Starting at $40.00 (Plus applicable fees) \n\n\n\nAbout This PerformanceFrank Turner is one of the UK’s most successful artists. He’s released 9 studio albums in his 17 year solo career\, the most recent of which\, FTHC (Feb 2022) became his first #1 hit on the UK Official Album Chart. His previous four albums have all peaked at #2 or #3 in the chart. Having sold over a million albums worldwide\, he has scored three gold-certified albums and one silver status. \n\n\n\nSince playing his first solo gig in 2004\, Frank has played over 2\,800 shows all over the world. His biggest UK headline shows include London’s O2 Arena and the world famous Wembley Arena. He has performed at almost every UK venue imaginable\, from tiny clubs to stadiums and was even chosen by Danny Boyle to perform at the opening ceremony of 2012 Olympic Games. \n\n\n\nInternationally Frank has played headline shows in all continents with big followings across Europe and North America. He completed the ambitious 50 States in 50 Days tour in 2022 – the first non-US citizen to do so and his award-winning four-day festival\, Lost Evenings took place in Anaheim\, California in 2023. \n\n\n\nDuring the pandemic\, Frank raised over £200K for struggling grassroot music venues with his weekly series of livestreams. This resulted in him winning the Music Venue Trust’s award for Outstanding Achievement for Grassroots Music Venues. He has also won two AIM Awards\, one Kerrang! Award and has been nominated for numerous NME Awards.
URL:https://superstitionsentertainment.ca/event/frank-turner-the-sleeping-souls-undefeated-canadian-tour-with-special-guests-bedouin-soundclash-and-bridge-city-sinners/
LOCATION:Grey Eagle Resort & Casino\, 3777 Grey Eagle Drive\, Tsuut’ina\, Alberta\, T3E 3X8\, Canada
CATEGORIES:Music
ATTACH;FMTTYPE=image/png:https://superstitionsentertainment.ca/wp-content/uploads/2024/09/Frank-Turner-The-Sleeping-Souls-–-Undefeated-Canadian-Tour-With-Special-Guests-Bedouin-Soundclash-and-Bridge-City-Sinners.png
END:VEVENT
BEGIN:VEVENT
DTSTART;TZID=America/Edmonton:20240905T173000
DTEND;TZID=America/Edmonton:20240905T193000
DTSTAMP:20260422T012420
CREATED:20240827T172852Z
LAST-MODIFIED:20240827T172907Z
UID:10000018-1725557400-1725564600@superstitionsentertainment.ca
SUMMARY:River Forth Dinner
DESCRIPTION:River Forth Dinner\n\n\n\nEnjoy Fine Dining with an Exceptional Dinner Aboard the Luxurious River Forth Dining CarExperience the charm and luxury of the early 20th century as you enjoy a three-course dinner aboard the historic River Forth train car. Indulge in delicious menu highlights\, from a Bison Short Rib served with seasonal vegetables grown right here at the Park\, to a sweet Vanilla Mille-Feuille. This unique dining experience allows you to enjoy fine dining while traveling with views of the Glenmore Reservoir\, the Rocky Mountains\, and the Historical Village. \n\n\n\nExperience the elegance of a bygone era aboard the River Forth Dining Car. Book Your Tickets Today! \n\n\n\nDate: Thursday\, Sept. 5\, 2024 \n\n\n\nTime: 5:30 – 7:30 p.m. \n\n\n\nAdult (16+): $89.95 plus GST \n\n\n\nChild (3-15): $84.95 plus GST \n\n\n\nAnnual Member and Heritage Club Member Discount: Annual Members and Heritage Club Members get a 15% discount on River Forth Dinner! Contact Guest Services at 403.268.8500 or info@heritagepark.ca to get your discount code and use it at checkout! \n\n\n\nThree Course River Forth Dinner Menu\n\n\n\nTo Start:Homemade Cultured Butter and Alberta Bakery Bread Basket \n\n\n\nAppetizerWild Flower and Garden SaladEdible flowers\, heritage garden lettuce\, sundried Saskatoon berries\, salt-cured beets\, toasted corn nuts\, and sweet grass tea sumac dressing \n\n\n\nEntréeBraised Bison Bone-In Short RibBrown butter mashed potatoes and Livingston garden vegetables \n\n\n\nDessertVanilla Mille-FeuilleChocolate ganache and berries
URL:https://superstitionsentertainment.ca/event/river-forth-dinner/
LOCATION:Heritage Park Historical Village\, 1900 Heritage Dr SW\, Calgary\, Alberta\, T2V 2X3\, Canada
CATEGORIES:Dinner
ATTACH;FMTTYPE=image/jpeg:https://superstitionsentertainment.ca/wp-content/uploads/2024/08/River-Forth-Dinner.jpg
END:VEVENT
BEGIN:VEVENT
DTSTART;TZID=America/Edmonton:20240902T113000
DTEND;TZID=America/Edmonton:20240902T153000
DTSTAMP:20260422T012420
CREATED:20240827T170420Z
LAST-MODIFIED:20240827T172058Z
UID:10000017-1725276600-1725291000@superstitionsentertainment.ca
SUMMARY:Labour Day Tea
DESCRIPTION:Labour Day Tea\n\n\n\nJoin us for a charming celebration of tradition and flavors\, where timeless elegance meets culinary excellence at Heritage Park’s Labour Day Tea. Come and enjoy petit finger sandwiches\, our favourite treats from the Alberta Bakery and buttermilk scones with your freshly brewed cup of tea! \n\n\n\nTicket Prices \n\n\n\nADMISSION TO THE HISTORICAL VILLAGE IS INCLUDED WITH Labour Day TEA\n\n\n\nHeritage Park Members (Ages 12+): $44.95 plus GST \n\n\n\nNon-Members (Ages 12+): $49.95 plus GST \n\n\n\nAges 3 – 11: $29.95 \n\n\n\nReserve your seat by calling Guest Services at 403.268.8500 \n\n\n\nReserve your seat by calling Guest Services at 403.268.8500 \n\n\n\nImportant Additional Information\n\n\n\n\nAdmission to Historical Village: Admission to the Historical Village is included with your seats to Labour Day Tea.\n\n\n\nParking: Paid parking is available in Heritage Park’s front lots. Members who’ve bought the parking add-on park for free! The Park Plus Zone number of the front lots is 8320. The daytime rate is $10 for the first 7 hours\, and 10$ per hour thereafter to a maximum of $30. Click here for more information.\n\n\n\nDietary Restrictions: Please notify Guest Services of any dietary restrictions while booking.\n\n\n\n\nLabour Day Tea Menu\n\n\n\nPetit Finger Sandwiches\n\n\n\nSmoked Turkey Breast Garden Herb Mousse \n\n\n\nHouse Cured Gravlax On Mini Rye Crostini And Dill Aioli \n\n\n\nFleur De Latte Mousse With Smoked Olive Tapenade \n\n\n\nProsciutto Pinwheel With Basil Cream Cheese \n\n\n\nPetit Pastries\n\n\n\nLemon Meringue Tarts\, Raspberry Chocolate MacaronChocolate Cheese Cake Bites\, European Squares \n\n\n\nButtermilk and Chocolate Raspberry Scones\n\n\n\nHeritage House Cream And Preserves\, Fresh Berries \n\n\n\nDrinks\n\n\n\nFreshly Brewed Tea or Lemonade
URL:https://superstitionsentertainment.ca/event/labour-day-tea/
LOCATION:Heritage Park Historical Village\, 1900 Heritage Dr SW\, Calgary\, Alberta\, T2V 2X3\, Canada
CATEGORIES:Event
ATTACH;FMTTYPE=image/png:https://superstitionsentertainment.ca/wp-content/uploads/2024/08/Labour-Day-Tea.png
END:VEVENT
BEGIN:VEVENT
DTSTART;TZID=America/Edmonton:20240901T190000
DTEND;TZID=America/Edmonton:20240901T233000
DTSTAMP:20260422T012420
CREATED:20240827T154956Z
LAST-MODIFIED:20240827T155238Z
UID:10000014-1725217200-1725233400@superstitionsentertainment.ca
SUMMARY:Electric Pride Dance Party & Show
DESCRIPTION:Electric Pride Dance Party & Show\n\n\n\nJoin us for the first annual Electric Pride Party 7 Drag Show! \n\n\n\nElectric Stage Series is proud to announce we are taking over The Back Alley Nightclub for an evening of PRIDE Celebration’s you will never forget! \n\n\n\nYour Host for the evening is the one & Only Angelina Starchild with live performances from the Incredible Lavacake Shyne \, The Inconic Miss Cordella Shyne\, The Dashing Shane Onyou\, The fierce Francheska Dynamites\, The Cosplay King Dann Gleebitz\, The Stunning Chanel Shyne\, King Neptune\, Tana Nuff\, Natasha Brite\, Karlotta Handle\, Lilith Fair\, Simon Sir Real\, Dayna Hart\, Q T Pie\, and Ofelia Vidal \n\n\n\nThe Dance floor popping with sensational DJ Distint & DJ Ryan Jamming out Music that will make your Pride evening one of a kind. \n\n\n\nThis is an 18 plus event\, ID and coat check is mandatory at the door. Free Parking available\, Raffles\, 50/50 Draw & Door prizes! \n\n\n\nLimited seating available\, please register your Free tickets online on Eventbrite – First come first served basis with a 5.00 suggested donation at the door that helps pay the Cast and crew for all the hard work it takes to host an event of this size! \n\n\n\nMore details to come as this Epic event grows
URL:https://superstitionsentertainment.ca/event/electric-pride-dance-party-show/
LOCATION:The Back Alley\, 4630 Macleod Trail\, Calgary\, Alberta\, T2G 5E8\, Canada
CATEGORIES:Dancing,DJ's
ATTACH;FMTTYPE=image/jpeg:https://superstitionsentertainment.ca/wp-content/uploads/2024/08/Electric-Pride-Dance-Party-Show.jpg
END:VEVENT
BEGIN:VEVENT
DTSTART;TZID=America/Edmonton:20240901T100000
DTEND;TZID=America/Edmonton:20240901T213000
DTSTAMP:20260422T012420
CREATED:20240827T165239Z
LAST-MODIFIED:20240827T165312Z
UID:10000016-1725184800-1725226200@superstitionsentertainment.ca
SUMMARY:Alberta Day at Heritage Park
DESCRIPTION:Celebrate Alberta Day at Heritage Park\n\n\n\nCelebrate Alberta Day with Heritage Park and the Government of Alberta on Sunday\, Sept. 1! Register today for your FREE Park admission ticket! Enjoy family-friendly entertainment\, live music\, activities and more in celebration of Alberta’s community\, culture and heritage. Experience the sights\, sounds\, and smells of Alberta’s history\, join in engaging activities and end the day with a spectacular live drone show in the Historical Village. Rally your friends and family\, mark your calendars and join us for a day you won’t forget!
URL:https://superstitionsentertainment.ca/event/alberta-day-at-heritage-park/
LOCATION:Heritage Park Historical Village\, 1900 Heritage Dr SW\, Calgary\, Alberta\, T2V 2X3\, Canada
CATEGORIES:Event
ATTACH;FMTTYPE=image/jpeg:https://superstitionsentertainment.ca/wp-content/uploads/2024/08/Celebrate-Alberta-Day-at-Heritage-Park.jpg
END:VEVENT
BEGIN:VEVENT
DTSTART;TZID=America/Edmonton:20240901T010000
DTEND;TZID=America/Edmonton:20240901T180000
DTSTAMP:20260422T012420
CREATED:20240827T161945Z
LAST-MODIFIED:20240827T162013Z
UID:10000015-1725152400-1725213600@superstitionsentertainment.ca
SUMMARY:Fine Jewellery & Watch Auction
DESCRIPTION:Fine Jewelry & Watch Auction\n\n\n\nVenue: Carriage House Inn\, 9030 MacLeod Trail South\, Calgary\, AB \n\n\n\n-Live Registration & Preview Sunday\, September 1st\, 2024 at 1pm-Live Bidding Starts Sunday\, September 1st\, 2024 at 2pm \n\n\n\nFor more information visit http://federalauction.ca/calgary \n\n\n\nWe have negotiated new consignment deals with motivated sellers on over 180 exciting Auction Lots of fine Jewellery including Diamonds Engagement Rings\, Diamond Bands\, Men’s Diamond Rings\, Tennis Bracelets\, Tennis Necklaces\, and other natural center gemstone Jewellery with Rubies\, Sapphires\, and Emeralds set in 14K and 18K Gold. From a great collection of Ethically Sourced Canadian Diamonds to the ultra rare Fancy Yellow GIA\, EGLUSA\, and CGL Certifications\, this auction offers exciting opportunities to bidders. Of notable importance are a 14K White Gold 60 Carat Cabochon Opal\, Sapphire\, Ruby & Diamond Necklace\, A classic 3 Carat Round Brilliant Cut Diamond Ring CGL Certified\, a Custom made fine 1.8 Carat Round Brilliant Cut “Internally Flawless” Diamond Ring\, A stunning Full Eternity Heart Brilliant Cut Diamond Band\, a 42 Carat TW Emerald & Diamond Straight Line Necklace\, a 12 Carat TDW All Diamond Bracelet\, and much more. Gold Coins including a selection of rare antique examples under the gavel. Watches include a Sports Rolex Submariner with Date\, Rolex Datejust 36mm Factory Gold Champagne Anniversary Diamond Dial Jubilee\, Rolex Datejust 36mm Blue Vignette Diamond Dial Jubilee\, Rolex Datejust 36mm White Dial with applied Gold Roman Hour Markers\, Lady’s Rolex Datejust 26 with Gold Linen Dial w/ Gold Baton Markers\, Omega Seamaster Sedna Gold 300m on Rubber Strap w/ Exhibition Back (Full Kit)\, Omega Seamaster 300m Black Dial\, a Rare Belmont Panda Dial Chronograph Chronometer (Full Kit)\, a Sports Chopard Mille Miglia Chronograph on Leather Strap (Full Kit) and more. Auctions offer attractive opportunities to buyers seeking fine jewellery and Swiss watches\, in a transparent live market. \n\n\n\nArrive by 1pm to complete Registration and Preview the items. Live Bidding will start at 2pm sharp after announcements. Inventory lists will be available at time of registration. Live Preview & Bidding only.Terms \n\n\n\n17.5% Handling Charge & Sales Taxes Apply2.5% plus related Sales Tax Rebate for e-Transfer/Wire/Draft/Cash Settlements \n\n\n\nFor more info email: request@federalauction.ca or visit http://federalauction.ca/calgary
URL:https://superstitionsentertainment.ca/event/fine-jewellery-watch-auction/
LOCATION:Carriage House Hotel & Conference Centre\, 9030 Macleod Trail\, Calgary\, Alberta\, T2H 0M4\, Canada
CATEGORIES:Auction
ATTACH;FMTTYPE=image/jpeg:https://superstitionsentertainment.ca/wp-content/uploads/2024/08/Fine-Jewelry-Watch-Auction.jpg
END:VEVENT
BEGIN:VEVENT
DTSTART;TZID=America/Edmonton:20240831T193000
DTEND;TZID=America/Edmonton:20240831T233000
DTSTAMP:20260422T012420
CREATED:20240827T153115Z
LAST-MODIFIED:20240827T153239Z
UID:10000013-1725132600-1725147000@superstitionsentertainment.ca
SUMMARY:RCW Uncensored 2
DESCRIPTION:RCW Uncensored 2\n\n\n\nRCW UNCENSORED 2 \n\n\n\nSaturday August 31st\, 2024 \n\n\n\nTool Shed Brewery801 30 St NE #9\,Calgary\, AB \n\n\n\nDoors: 6:30pmShow: 7:00pm \n\n\n\nCome join us for RCW UNCENSORED 2 at the Tool Shed Beer & BBQ! Get ready for an action-packed event featuring your favorite wrestlers going head-to-head in thrilling matches. This in-person event promises non-stop excitement and adrenaline as the competitors battle it out in the ring. Don’t miss out on the chance to witness all the drama\, intensity\, and surprises that RCW UNCENSORED 2 has in store for you. Grab your tickets now and get ready for a night you won’t forget! \n\n\n\nAdvance tickets on saleonline: https://www.eventbrite.ca/…/rcw-uncensored-2-tickets…In Person at tool shed start August 9th.ALL AGES LICENSED EVENTFOOD AVAILABLE ON SITE.
URL:https://superstitionsentertainment.ca/event/rcw-uncensored-2/
LOCATION:Tool Shed Brewing Company\, 801 30st NE #9\, Calgary\, Alberta\, T2A 5L7\, Canada
CATEGORIES:Pro Wrestling,Sports
ATTACH;FMTTYPE=image/jpeg:https://superstitionsentertainment.ca/wp-content/uploads/2024/08/RCW-Uncensored-2.jpg
END:VEVENT
BEGIN:VEVENT
DTSTART;TZID=America/Edmonton:20240827T193000
DTEND;TZID=America/Edmonton:20240827T233000
DTSTAMP:20260422T012420
CREATED:20240827T151654Z
LAST-MODIFIED:20240827T151706Z
UID:10000012-1724787000-1724801400@superstitionsentertainment.ca
SUMMARY:Battle at the Brickwell VIII
DESCRIPTION:Battle at the Brickwell VIII\n\n\n\nWild Rose Wrestling and the Brickwell Taphouse bring you another hard hitting night of Wrestling action with the “Battle at the Brickwell VIII”. \n\n\n\nAlready signed for this evening of action The Wild Rose Wrestling Tag Team Championships will be decided in a no Disqualification match between the Current Champions The Handsome Devils (Cam Hanson and Deven Devlin) and the Challengers The Short Kings (Marz the Specialist and Thickness Reid Matthews) \n\n\n\nAlso the WRW Championship Title Tournament continues with Semi-Finalists:“The Headline” Shaun Martens\, “The Magnificent” Mo Jabari\, Scorpious and “Big” Jess Youngblood. \n\n\n\nNew Wild Rose Wrestling Hardcore and Women’s Champion Kat Von Heez in action \n\n\n\nPlus Much More. \n\n\n\nFood and Drink Specials available all evening. \n\n\n\nTickets are only $20 in Advance\, or $25 at the Door and are available at The Brickwell Taphouse or online via Eventbrite. \n\n\n\nIt’s not a night of excitement you’re going to want to miss.
URL:https://superstitionsentertainment.ca/event/battle-at-the-brickwell-viii/
LOCATION:Brickwell Taphouse\, 6219 Centre St NW #11\, Calgary\, Alberta\, T2K 0V2\, Canada
CATEGORIES:Pro Wrestling,Sports
ATTACH;FMTTYPE=image/jpeg:https://superstitionsentertainment.ca/wp-content/uploads/2024/08/455122078_530342399564615_1711291745945437068_n.jpg
END:VEVENT
END:VCALENDAR