BEGIN:VCALENDAR
VERSION:2.0
PRODID:-//Superstitions Entertainment Empire - ECPv6.15.20//NONSGML v1.0//EN
CALSCALE:GREGORIAN
METHOD:PUBLISH
X-WR-CALNAME:Superstitions Entertainment Empire
X-ORIGINAL-URL:https://superstitionsentertainment.ca
X-WR-CALDESC:Events for Superstitions Entertainment Empire
REFRESH-INTERVAL;VALUE=DURATION:PT1H
X-Robots-Tag:noindex
X-PUBLISHED-TTL:PT1H
BEGIN:VTIMEZONE
TZID:America/Edmonton
BEGIN:DAYLIGHT
TZOFFSETFROM:-0700
TZOFFSETTO:-0600
TZNAME:MDT
DTSTART:20250309T090000
END:DAYLIGHT
BEGIN:STANDARD
TZOFFSETFROM:-0600
TZOFFSETTO:-0700
TZNAME:MST
DTSTART:20251102T080000
END:STANDARD
BEGIN:DAYLIGHT
TZOFFSETFROM:-0700
TZOFFSETTO:-0600
TZNAME:MDT
DTSTART:20260308T090000
END:DAYLIGHT
BEGIN:STANDARD
TZOFFSETFROM:-0600
TZOFFSETTO:-0700
TZNAME:MST
DTSTART:20261101T080000
END:STANDARD
BEGIN:DAYLIGHT
TZOFFSETFROM:-0700
TZOFFSETTO:-0600
TZNAME:MDT
DTSTART:20270314T090000
END:DAYLIGHT
BEGIN:STANDARD
TZOFFSETFROM:-0600
TZOFFSETTO:-0700
TZNAME:MST
DTSTART:20271107T080000
END:STANDARD
END:VTIMEZONE
BEGIN:VEVENT
DTSTART;TZID=America/Edmonton:20260526T100000
DTEND;TZID=America/Edmonton:20260526T103000
DTSTAMP:20260422T161841
CREATED:20260419T152203Z
LAST-MODIFIED:20260419T152207Z
UID:10000501-1779789600-1779791400@superstitionsentertainment.ca
SUMMARY:Tuesday Takeover - Ben Bauce
DESCRIPTION:Tuesday Takeover – Ben Bauce\n\n\n\nTuesday Takeover – Ben Bauce\n\n\n\nJoin Ben Bauce on Tuesdays in May as he takes over the Laugh Shop! \n\n\n\nMay 5 – Noah Brodeur with Steven Darnell as Host/MC  \n\n\n\nMay 12 – Derek Yee\, featuring Eric Bzowi with Ben Bauce as Host/MC  \n\n\n\nMay 19 – Benji Rothman\, featuring Sophie Clark with Ben Bauce as Host/MC  \n\n\n\nMay 26 Jordan Strauss & Andrew Crone feating Kyle P Farris with Ben Bauce as Host/MC  \n\n\n\nEvery Tuesday is proudly presented by our good friends at Bronc Beer\, featuring Great Buckin’ Beer specials!!! \n\n\n\nTickets are $14.95\, but you can snatch them up for half price if you purchase them online in advance.
URL:https://superstitionsentertainment.ca/event/tuesday-takeover-ben-bauce/2026-05-26/
LOCATION:The Laugh Shop\, 5940 Blackfoot Trail SE\, Calgary\, Alberta\, T2H 2B5\, Canada
CATEGORIES:Comedy
ATTACH;FMTTYPE=image/png:https://superstitionsentertainment.ca/wp-content/uploads/2026/04/Tuesday-Takeover-Ben-Bauce.png
END:VEVENT
END:VCALENDAR