BEGIN:VCALENDAR
VERSION:2.0
PRODID:-//Superstitions Entertainment Empire - ECPv6.15.20//NONSGML v1.0//EN
CALSCALE:GREGORIAN
METHOD:PUBLISH
X-WR-CALNAME:Superstitions Entertainment Empire
X-ORIGINAL-URL:https://superstitionsentertainment.ca
X-WR-CALDESC:Events for Superstitions Entertainment Empire
REFRESH-INTERVAL;VALUE=DURATION:PT1H
X-Robots-Tag:noindex
X-PUBLISHED-TTL:PT1H
BEGIN:VTIMEZONE
TZID:America/Edmonton
BEGIN:DAYLIGHT
TZOFFSETFROM:-0700
TZOFFSETTO:-0600
TZNAME:MDT
DTSTART:20250309T090000
END:DAYLIGHT
BEGIN:STANDARD
TZOFFSETFROM:-0600
TZOFFSETTO:-0700
TZNAME:MST
DTSTART:20251102T080000
END:STANDARD
BEGIN:DAYLIGHT
TZOFFSETFROM:-0700
TZOFFSETTO:-0600
TZNAME:MDT
DTSTART:20260308T090000
END:DAYLIGHT
BEGIN:STANDARD
TZOFFSETFROM:-0600
TZOFFSETTO:-0700
TZNAME:MST
DTSTART:20261101T080000
END:STANDARD
BEGIN:DAYLIGHT
TZOFFSETFROM:-0700
TZOFFSETTO:-0600
TZNAME:MDT
DTSTART:20270314T090000
END:DAYLIGHT
BEGIN:STANDARD
TZOFFSETFROM:-0600
TZOFFSETTO:-0700
TZNAME:MST
DTSTART:20271107T080000
END:STANDARD
END:VTIMEZONE
BEGIN:VEVENT
DTSTART;TZID=America/Edmonton:20260521T200000
DTEND;TZID=America/Edmonton:20260521T213000
DTSTAMP:20260422T095434
CREATED:20260420T161538Z
LAST-MODIFIED:20260420T161543Z
UID:10000512-1779393600-1779399000@superstitionsentertainment.ca
SUMMARY:John Cullen
DESCRIPTION:John Cullen\n\n\n\nJohn Cullen\n\n\n\nJohn Cullen is a stand-up comedian\, podcaster\, teacher\, and writer currently residing in Calgary\, Alberta. He has been performing stand-up for over a decade and has made televised appearances at the Just for Laughs\, Halifax\, and Winnipeg Comedy Festivals\, as well as making regular appearances on CBC Radio’s The Debaters. \n\n\n\nHis podcast\, Blocked Party\, has been downloaded nearly three million times\, and has been named a top comedy podcast by both the The A.V. Club and Vulture. He also co-hosts the niche but popular The P.O.D. Kast with Bryan Quinby and What is…? a Jeopardy Podcast with Emily Heller. \n\n\n\nIn 2024 John released his first ever narrative podcast Broomgate: A Curling Scandal in association with Kelly&Kelly\, USG Audio and CBC Podcasts. \n\n\n\nHe has released two comedy albums on Comedy Records\, 2017’s Most Likely to Be a Comedian and 2020’s Long Stories for No Reason. Both charted at #1 on the iTunes Comedy Charts and can frequently be heard on Sirius XM. 
URL:https://superstitionsentertainment.ca/event/john-cullen/
LOCATION:The Laugh Shop\, 5940 Blackfoot Trail SE\, Calgary\, Alberta\, T2H 2B5\, Canada
CATEGORIES:Comedy
ATTACH;FMTTYPE=image/png:https://superstitionsentertainment.ca/wp-content/uploads/2026/04/John-Cullen.png
END:VEVENT
END:VCALENDAR