BEGIN:VCALENDAR
VERSION:2.0
PRODID:-//Superstitions Entertainment Empire - ECPv6.15.20//NONSGML v1.0//EN
CALSCALE:GREGORIAN
METHOD:PUBLISH
X-WR-CALNAME:Superstitions Entertainment Empire
X-ORIGINAL-URL:https://superstitionsentertainment.ca
X-WR-CALDESC:Events for Superstitions Entertainment Empire
REFRESH-INTERVAL;VALUE=DURATION:PT1H
X-Robots-Tag:noindex
X-PUBLISHED-TTL:PT1H
BEGIN:VTIMEZONE
TZID:America/Edmonton
BEGIN:DAYLIGHT
TZOFFSETFROM:-0700
TZOFFSETTO:-0600
TZNAME:MDT
DTSTART:20250309T090000
END:DAYLIGHT
BEGIN:STANDARD
TZOFFSETFROM:-0600
TZOFFSETTO:-0700
TZNAME:MST
DTSTART:20251102T080000
END:STANDARD
BEGIN:DAYLIGHT
TZOFFSETFROM:-0700
TZOFFSETTO:-0600
TZNAME:MDT
DTSTART:20260308T090000
END:DAYLIGHT
BEGIN:STANDARD
TZOFFSETFROM:-0600
TZOFFSETTO:-0700
TZNAME:MST
DTSTART:20261101T080000
END:STANDARD
BEGIN:DAYLIGHT
TZOFFSETFROM:-0700
TZOFFSETTO:-0600
TZNAME:MDT
DTSTART:20270314T090000
END:DAYLIGHT
BEGIN:STANDARD
TZOFFSETFROM:-0600
TZOFFSETTO:-0700
TZNAME:MST
DTSTART:20271107T080000
END:STANDARD
END:VTIMEZONE
BEGIN:VEVENT
DTSTART;TZID=America/Edmonton:20260421T200000
DTEND;TZID=America/Edmonton:20260421T223000
DTSTAMP:20260421T034655
CREATED:20260417T183934Z
LAST-MODIFIED:20260417T183937Z
UID:10000485-1776801600-1776810600@superstitionsentertainment.ca
SUMMARY:Tuesday Takeover - Chris Gordon
DESCRIPTION:Tuesday Takeover – Chris Gordon\n\n\n\nTuesday Takeover – Chris Gordon \n\n\n\nJoin Chris Gordon on Tuesdays in April as he takes over the Laugh Shop! \n\n\n\nEvery Tuesday is proudly presented by our good friends at Bronc Beer\, featuring Great Buckin’ Beer specials!!! \n\n\n\nTickets are $14.95\, but you can snatch them up for half price if you purchase them online in advance.
URL:https://superstitionsentertainment.ca/event/tuesday-takeover-chris-gordon/2026-04-21/
LOCATION:The Laugh Shop\, 5940 Blackfoot Trail SE\, Calgary\, Alberta\, T2H 2B5\, Canada
END:VEVENT
END:VCALENDAR